0.0145454545454545
0.000000
0.000000
-0.0145454545454545
-87.828363758434
46.6927280356667
