0.0145454545454545
0.000000
0.000000
-0.0145454545454545
-79.7963660777699
42.8187274863503
