0.0145454545454545
0.000000
0.000000
-0.0145454545454545
-98.0793632091175
45.7237262656472
