0.0145454545454545
0.000000
0.000000
-0.0145454545454545
-96.5663627208363
50.8297290732644
