0.0145454545454545
0.000000
0.000000
-0.0145454545454545
-104.636362415661
33.2657279898904
