0.0145454545454545
0.000000
0.000000
-0.0145454545454545
-77.5223640025746
48.5037288596413
