0.0145454545454545
0.000000
0.000000
-0.0145454545454545
-101.867365223278
31.7767276694558
