0.0145454545454545
0.000000
0.000000
-0.0145454545454545
-85.3983634532582
36.6477260520241
