0.0145454545454545
0.000000
0.000000
-0.0145454545454545
-86.2163642467152
45.4057254721902
