0.0145454545454545
0.000000
0.000000
-0.0145454545454545
-82.360361439098
44.9157276084206
