0.0145454545454545
0.000000
0.000000
-0.0145454545454545
-120.590364796032
47.4837284018777
