0.0145454545454545
0.000000
0.000000
-0.0145454545454545
-72.1633628429066
50.031728737571
