0.0145454545454545
0.000000
0.000000
-0.0145454545454545
-85.4753669322621
37.9417285849831
