0.0145454545454545
0.000000
0.000000
-0.0145454545454545
-86.0593665660511
28.5897273947976
