0.0145454545454545
0.000000
0.000000
-0.0145454545454545
-83.0933631480824
46.9417285849831
