0.0145454545454545
0.000000
0.000000
-0.0145454545454545
-75.4943641246449
45.9487285544656
