0.0145454545454545
0.000000
0.000000
-0.0145454545454545
-112.962366443981
49.84672736428
