0.0145454545454545
0.000000
0.000000
-0.0145454545454545
-105.116365772594
50.7637271811745
