0.0145454545454545
0.000000
0.000000
-0.0145454545454545
-80.3413642467152
46.1937274863503
