0.0145454545454545
0.000000
0.000000
-0.0145454545454545
-125.988367420543
43.4887256552956
