0.0145454545454545
0.000000
0.000000
-0.0145454545454545
-126.850366932262
52.1877269675515
