0.0145454545454545
0.000000
0.000000
-0.0145454545454545
-95.5473655284535
47.8157291342995
