0.0145454545454545
0.000000
0.000000
-0.0145454545454545
-89.0763648570668
48.8997287680886
