0.0145454545454546
0.000000
0.000000
-0.0145454545454546
-151.855356556286
69.0287303855202
