0.0145454545454545
0.000000
0.000000
-0.0145454545454545
-84.7693656505238
29.6037273337624
