0.0145454545454545
0.000000
0.000000
-0.0145454545454545
-106.065363270153
39.2257289817116
