0.0145454545454546
0.000000
0.000000
-0.0145454545454546
-160.983362537731
62.6727275779031
