0.0145454545454546
0.000000
0.000000
-0.0145454545454546
-155.705362659801
64.7187290122292
