0.0145454545454546
0.000000
0.000000
-0.0145454545454546
-169.649362903942
68.5047283103249
