0.0145454545454546
0.000000
0.000000
-0.0145454545454546
-139.884363514293
60.8457279135964
