0.0145454545454545
0.000000
0.000000
-0.0145454545454545
-102.769365650524
49.4487285544656
