0.0145454545454546
0.000000
0.000000
-0.0145454545454546
-166.230356556286
64.7857265403054
