0.00852919145063922
0.000000
0.000000
-0.00852919145063922
-117.210491069447
34.8362619850852
