0.0087196766246449
0.000000
0.000000
-0.0087196766246449
-121.790544003573
36.8055499822443
