0.00834056507457386
0.000000
0.000000
-0.00834056507457386
-86.827001620206
32.6874858301336
