0.010637040571733
0.000000
0.000000
-0.010637040571733
-114.570795787464
50.3798667214134
