0.00842565363103693
0.000000
0.000000
-0.00842565363103693
-103.015480027632
33.6838422116366
