0.00935630104758521
0.000000
0.000000
-0.00935630104758521
-122.263210698908
42.3223062549938
