0.00885428688742896
0.000000
0.000000
-0.00885428688742896
-81.1418567865545
38.0955026661266
