0.0102961314808239
0.000000
0.000000
-0.0102961314808239
-121.935688753995
48.517289983576
