0.00946377840909089
0.000000
0.000000
-0.00946377840909089
-83.0524039528587
43.1288054032759
