0.00901519775390625
0.000000
0.000000
-0.00901519775390625
-91.472054901123
39.5426725769043
