0.00856977982954547
0.000000
0.000000
-0.00856977982954547
-119.60764942516
35.2714032814719
