0.0104539905894886
0.000000
0.000000
-0.0104539905894886
-90.6789667025479
49.4006186467951
