0.00982954545454547
0.000000
0.000000
-0.00982954545454547
-91.4949513660778
45.6662087319114
