0.00876428777521307
0.000000
0.000000
-0.00876428777521307
-94.886905226274
37.2417955294522
