0.00867606423117896
0.000000
0.000000
-0.00867606423117896
-81.0274820917303
36.3705780445446
