0.00921686345880682
0.000000
0.000000
-0.00921686345880682
-93.4434492631392
41.2290303316983
