0.009493408203125
0.000000
0.000000
-0.009493408203125
-119.646277160645
43.3459422302246
