0.00961927934126422
0.000000
0.000000
-0.00961927934126422
-90.9659732471813
44.2444922707298
